Workbook

Sheet Timelogg
A1: Prosjekttimeliste
A2: Legg først inn prosjektene på fanen Prosjekter. Før deretter hver arbeidsøkt her: velg prosjekt, skriv start- og sluttid, og marker om timene er fakturerbare.
A4: Navn | E4: Timer totalt | G4: Fakturerbare timer | I4: Beløp
E5: =SUM(H9:H208) | G5: =SUMIFS(H9:H208,I9:I208,"Ja") | I5: =SUM(K9:K208)
A8: Dato | B8: Prosjekt | C8: Kunde | D8: Oppgave / beskrivelse | E8: Start | F8: Slutt | G8: Pause (min) | H8: Timer | I8: Fakturerbar | J8: Timepris | K8: Beløp
C9: =IF(B9="","",IFERROR(INDEX('Prosjekter'!$B$8:$B$37,MATCH(B9,'Prosjekter'!$A$8:$A$37,0))&"","")) | H9: =IF(OR(E9="",F9=""),"",ROUND(MAX(0,MOD(F9-E9,1)*24-N(G9)/60),2)) | J9: =IF(B9="","",IFERROR(INDEX('Prosjekter'!$C$8:$C$37,MATCH(B9,'Prosjekter'!$A$8:$A$37,0))+0,"")) | K9: =IF(OR(H9="",J9="",J9=0,I9<>"Ja"),"",ROUND(H9*J9,2))
C10: =IF(B10="","",IFERROR(INDEX('Prosjekter'!$B$8:$B$37,MATCH(B10,'Prosjekter'!$A$8:$A$37,0))&"","")) | H10: =IF(OR(E10="",F10=""),"",ROUND(MAX(0,MOD(F10-E10,1)*24-N(G10)/60),2)) | J10: =IF(B10="","",IFERROR(INDEX('Prosjekter'!$C$8:$C$37,MATCH(B10,'Prosjekter'!$A$8:$A$37,0))+0,"")) | K10: =IF(OR(H10="",J10="",J10=0,I10<>"Ja"),"",ROUND(H10*J10,2))
C11: =IF(B11="","",IFERROR(INDEX('Prosjekter'!$B$8:$B$37,MATCH(B11,'Prosjekter'!$A$8:$A$37,0))&"","")) | H11: =IF(OR(E11="",F11=""),"",ROUND(MAX(0,MOD(F11-E11,1)*24-N(G11)/60),2)) | J11: =IF(B11="","",IFERROR(INDEX('Prosjekter'!$C$8:$C$37,MATCH(B11,'Prosjekter'!$A$8:$A$37,0))+0,"")) | K11: =IF(OR(H11="",J11="",J11=0,I11<>"Ja"),"",ROUND(H11*J11,2))
C12: =IF(B12="","",IFERROR(INDEX('Prosjekter'!$B$8:$B$37,MATCH(B12,'Prosjekter'!$A$8:$A$37,0))&"","")) | H12: =IF(OR(E12="",F12=""),"",ROUND(MAX(0,MOD(F12-E12,1)*24-N(G12)/60),2)) | J12: =IF(B12="","",IFERROR(INDEX('Prosjekter'!$C$8:$C$37,MATCH(B12,'Prosjekter'!$A$8:$A$37,0))+0,"")) | K12: =IF(OR(H12="",J12="",J12=0,I12<>"Ja"),"",ROUND(H12*J12,2))
C13: =IF(B13="","",IFERROR(INDEX('Prosjekter'!$B$8:$B$37,MATCH(B13,'Prosjekter'!$A$8:$A$37,0))&"","")) | H13: =IF(OR(E13="",F13=""),"",ROUND(MAX(0,MOD(F13-E13,1)*24-N(G13)/60),2)) | J13: =IF(B13="","",IFERROR(INDEX('Prosjekter'!$C$8:$C$37,MATCH(B13,'Prosjekter'!$A$8:$A$37,0))+0,"")) | K13: =IF(OR(H13="",J13="",J13=0,I13<>"Ja"),"",ROUND(H13*J13,2))
C14: =IF(B14="","",IFERROR(INDEX('Prosjekter'!$B$8:$B$37,MATCH(B14,'Prosjekter'!$A$8:$A$37,0))&"","")) | H14: =IF(OR(E14="",F14=""),"",ROUND(MAX(0,MOD(F14-E14,1)*24-N(G14)/60),2)) | J14: =IF(B14="","",IFERROR(INDEX('Prosjekter'!$C$8:$C$37,MATCH(B14,'Prosjekter'!$A$8:$A$37,0))+0,"")) | K14: =IF(OR(H14="",J14="",J14=0,I14<>"Ja"),"",ROUND(H14*J14,2))
C15: =IF(B15="","",IFERROR(INDEX('Prosjekter'!$B$8:$B$37,MATCH(B15,'Prosjekter'!$A$8:$A$37,0))&"","")) | H15: =IF(OR(E15="",F15=""),"",ROUND(MAX(0,MOD(F15-E15,1)*24-N(G15)/60),2)) | J15: =IF(B15="","",IFERROR(INDEX('Prosjekter'!$C$8:$C$37,MATCH(B15,'Prosjekter'!$A$8:$A$37,0))+0,"")) | K15: =IF(OR(H15="",J15="",J15=0,I15<>"Ja"),"",ROUND(H15*J15,2))
C16: =IF(B16="","",IFERROR(INDEX('Prosjekter'!$B$8:$B$37,MATCH(B16,'Prosjekter'!$A$8:$A$37,0))&"","")) | H16: =IF(OR(E16="",F16=""),"",ROUND(MAX(0,MOD(F16-E16,1)*24-N(G16)/60),2)) | J16: =IF(B16="","",IFERROR(INDEX('Prosjekter'!$C$8:$C$37,MATCH(B16,'Prosjekter'!$A$8:$A$37,0))+0,"")) | K16: =IF(OR(H16="",J16="",J16=0,I16<>"Ja"),"",ROUND(H16*J16,2))
C17: =IF(B17="","",IFERROR(INDEX('Prosjekter'!$B$8:$B$37,MATCH(B17,'Prosjekter'!$A$8:$A$37,0))&"","")) | H17: =IF(OR(E17="",F17=""),"",ROUND(MAX(0,MOD(F17-E17,1)*24-N(G17)/60),2)) | J17: =IF(B17="","",IFERROR(INDEX('Prosjekter'!$C$8:$C$37,MATCH(B17,'Prosjekter'!$A$8:$A$37,0))+0,"")) | K17: =IF(OR(H17="",J17="",J17=0,I17<>"Ja"),"",ROUND(H17*J17,2))
C18: =IF(B18="","",IFERROR(INDEX('Prosjekter'!$B$8:$B$37,MATCH(B18,'Prosjekter'!$A$8:$A$37,0))&"","")) | H18: =IF(OR(E18="",F18=""),"",ROUND(MAX(0,MOD(F18-E18,1)*24-N(G18)/60),2)) | J18: =IF(B18="","",IFERROR(INDEX('Prosjekter'!$C$8:$C$37,MATCH(B18,'Prosjekter'!$A$8:$A$37,0))+0,"")) | K18: =IF(OR(H18="",J18="",J18=0,I18<>"Ja"),"",ROUND(H18*J18,2))
C19: =IF(B19="","",IFERROR(INDEX('Prosjekter'!$B$8:$B$37,MATCH(B19,'Prosjekter'!$A$8:$A$37,0))&"","")) | H19: =IF(OR(E19="",F19=""),"",ROUND(MAX(0,MOD(F19-E19,1)*24-N(G19)/60),2)) | J19: =IF(B19="","",IFERROR(INDEX('Prosjekter'!$C$8:$C$37,MATCH(B19,'Prosjekter'!$A$8:$A$37,0))+0,"")) | K19: =IF(OR(H19="",J19="",J19=0,I19<>"Ja"),"",ROUND(H19*J19,2))
C20: =IF(B20="","",IFERROR(INDEX('Prosjekter'!$B$8:$B$37,MATCH(B20,'Prosjekter'!$A$8:$A$37,0))&"","")) | H20: =IF(OR(E20="",F20=""),"",ROUND(MAX(0,MOD(F20-E20,1)*24-N(G20)/60),2)) | J20: =IF(B20="","",IFERROR(INDEX('Prosjekter'!$C$8:$C$37,MATCH(B20,'Prosjekter'!$A$8:$A$37,0))+0,"")) | K20: =IF(OR(H20="",J20="",J20=0,I20<>"Ja"),"",ROUND(H20*J20,2))
... C208: =IF(B208="","",IFERROR(INDEX('Prosjekter'!$B$8:$B$37,MATCH(B208,'Prosjekter'!$A$8:$A$37,0))&"","")) | H208: =IF(OR(E208="",F208=""),"",ROUND(MAX(0,MOD(F208-E208,1)*24-N(G208)/60),2)) | J208: =IF(B208="","",IFERROR(INDEX('Prosjekter'!$C$8:$C$37,MATCH(B208,'Prosjekter'!$A$8:$A$37,0))+0,"")) | K208: =IF(OR(H208="",J208="",J208=0,I208<>"Ja"),"",ROUND(H208*J208,2))
A210: Gratis mal fra EasyHours · easyhours.no — stemple inn fra mobilen eller et felles nettbrett i stedet for papir.

Sheet Prosjekter
A1: Prosjekter
A2: Før opp hvert prosjekt med kunde og timepris. Timer og fakturerbare beløp summeres fra fanen Timelogg. Angi en datoperiode for å summere én måned eller én fakturaperiode.
A4: Tell bare arbeid mellom | D4: – | F4: La begge datoene stå tomme for å summere alt.
A7: Prosjekt | B7: Kunde | C7: Timelønn | D7: Budsjett (t) | E7: Timer | F7: Fakturerbare timer | G7: Beløp | H7: Igjen av budsjett (t)
E8: =IF($A8="","",SUMIFS('Timelogg'!$H$9:$H$208,'Timelogg'!$B$9:$B$208,$A8,'Timelogg'!$A$9:$A$208,">="&IF($C$4="",0,$C$4),'Timelogg'!$A$9:$A$208,"<="&IF($E$4="",2958465,$E$4))) | F8: =IF($A8="","",SUMIFS('Timelogg'!$H$9:$H$208,'Timelogg'!$B$9:$B$208,$A8,'Timelogg'!$I$9:$I$208,"Ja",'Timelogg'!$A$9:$A$208,">="&IF($C$4="",0,$C$4),'Timelogg'!$A$9:$A$208,"<="&IF($E$4="",2958465,$E$4))) | G8: =IF($A8="","",SUMIFS('Timelogg'!$K$9:$K$208,'Timelogg'!$B$9:$B$208,$A8,'Timelogg'!$A$9:$A$208,">="&IF($C$4="",0,$C$4),'Timelogg'!$A$9:$A$208,"<="&IF($E$4="",2958465,$E$4))) | H8: =IF(OR($A8="",N(D8)=0),"",D8-E8)
E9: =IF($A9="","",SUMIFS('Timelogg'!$H$9:$H$208,'Timelogg'!$B$9:$B$208,$A9,'Timelogg'!$A$9:$A$208,">="&IF($C$4="",0,$C$4),'Timelogg'!$A$9:$A$208,"<="&IF($E$4="",2958465,$E$4))) | F9: =IF($A9="","",SUMIFS('Timelogg'!$H$9:$H$208,'Timelogg'!$B$9:$B$208,$A9,'Timelogg'!$I$9:$I$208,"Ja",'Timelogg'!$A$9:$A$208,">="&IF($C$4="",0,$C$4),'Timelogg'!$A$9:$A$208,"<="&IF($E$4="",2958465,$E$4))) | G9: =IF($A9="","",SUMIFS('Timelogg'!$K$9:$K$208,'Timelogg'!$B$9:$B$208,$A9,'Timelogg'!$A$9:$A$208,">="&IF($C$4="",0,$C$4),'Timelogg'!$A$9:$A$208,"<="&IF($E$4="",2958465,$E$4))) | H9: =IF(OR($A9="",N(D9)=0),"",D9-E9)
E10: =IF($A10="","",SUMIFS('Timelogg'!$H$9:$H$208,'Timelogg'!$B$9:$B$208,$A10,'Timelogg'!$A$9:$A$208,">="&IF($C$4="",0,$C$4),'Timelogg'!$A$9:$A$208,"<="&IF($E$4="",2958465,$E$4))) | F10: =IF($A10="","",SUMIFS('Timelogg'!$H$9:$H$208,'Timelogg'!$B$9:$B$208,$A10,'Timelogg'!$I$9:$I$208,"Ja",'Timelogg'!$A$9:$A$208,">="&IF($C$4="",0,$C$4),'Timelogg'!$A$9:$A$208,"<="&IF($E$4="",2958465,$E$4))) | G10: =IF($A10="","",SUMIFS('Timelogg'!$K$9:$K$208,'Timelogg'!$B$9:$B$208,$A10,'Timelogg'!$A$9:$A$208,">="&IF($C$4="",0,$C$4),'Timelogg'!$A$9:$A$208,"<="&IF($E$4="",2958465,$E$4))) | H10: =IF(OR($A10="",N(D10)=0),"",D10-E10)
E11: =IF($A11="","",SUMIFS('Timelogg'!$H$9:$H$208,'Timelogg'!$B$9:$B$208,$A11,'Timelogg'!$A$9:$A$208,">="&IF($C$4="",0,$C$4),'Timelogg'!$A$9:$A$208,"<="&IF($E$4="",2958465,$E$4))) | F11: =IF($A11="","",SUMIFS('Timelogg'!$H$9:$H$208,'Timelogg'!$B$9:$B$208,$A11,'Timelogg'!$I$9:$I$208,"Ja",'Timelogg'!$A$9:$A$208,">="&IF($C$4="",0,$C$4),'Timelogg'!$A$9:$A$208,"<="&IF($E$4="",2958465,$E$4))) | G11: =IF($A11="","",SUMIFS('Timelogg'!$K$9:$K$208,'Timelogg'!$B$9:$B$208,$A11,'Timelogg'!$A$9:$A$208,">="&IF($C$4="",0,$C$4),'Timelogg'!$A$9:$A$208,"<="&IF($E$4="",2958465,$E$4))) | H11: =IF(OR($A11="",N(D11)=0),"",D11-E11)
E12: =IF($A12="","",SUMIFS('Timelogg'!$H$9:$H$208,'Timelogg'!$B$9:$B$208,$A12,'Timelogg'!$A$9:$A$208,">="&IF($C$4="",0,$C$4),'Timelogg'!$A$9:$A$208,"<="&IF($E$4="",2958465,$E$4))) | F12: =IF($A12="","",SUMIFS('Timelogg'!$H$9:$H$208,'Timelogg'!$B$9:$B$208,$A12,'Timelogg'!$I$9:$I$208,"Ja",'Timelogg'!$A$9:$A$208,">="&IF($C$4="",0,$C$4),'Timelogg'!$A$9:$A$208,"<="&IF($E$4="",2958465,$E$4))) | G12: =IF($A12="","",SUMIFS('Timelogg'!$K$9:$K$208,'Timelogg'!$B$9:$B$208,$A12,'Timelogg'!$A$9:$A$208,">="&IF($C$4="",0,$C$4),'Timelogg'!$A$9:$A$208,"<="&IF($E$4="",2958465,$E$4))) | H12: =IF(OR($A12="",N(D12)=0),"",D12-E12)
E13: =IF($A13="","",SUMIFS('Timelogg'!$H$9:$H$208,'Timelogg'!$B$9:$B$208,$A13,'Timelogg'!$A$9:$A$208,">="&IF($C$4="",0,$C$4),'Timelogg'!$A$9:$A$208,"<="&IF($E$4="",2958465,$E$4))) | F13: =IF($A13="","",SUMIFS('Timelogg'!$H$9:$H$208,'Timelogg'!$B$9:$B$208,$A13,'Timelogg'!$I$9:$I$208,"Ja",'Timelogg'!$A$9:$A$208,">="&IF($C$4="",0,$C$4),'Timelogg'!$A$9:$A$208,"<="&IF($E$4="",2958465,$E$4))) | G13: =IF($A13="","",SUMIFS('Timelogg'!$K$9:$K$208,'Timelogg'!$B$9:$B$208,$A13,'Timelogg'!$A$9:$A$208,">="&IF($C$4="",0,$C$4),'Timelogg'!$A$9:$A$208,"<="&IF($E$4="",2958465,$E$4))) | H13: =IF(OR($A13="",N(D13)=0),"",D13-E13)
E14: =IF($A14="","",SUMIFS('Timelogg'!$H$9:$H$208,'Timelogg'!$B$9:$B$208,$A14,'Timelogg'!$A$9:$A$208,">="&IF($C$4="",0,$C$4),'Timelogg'!$A$9:$A$208,"<="&IF($E$4="",2958465,$E$4))) | F14: =IF($A14="","",SUMIFS('Timelogg'!$H$9:$H$208,'Timelogg'!$B$9:$B$208,$A14,'Timelogg'!$I$9:$I$208,"Ja",'Timelogg'!$A$9:$A$208,">="&IF($C$4="",0,$C$4),'Timelogg'!$A$9:$A$208,"<="&IF($E$4="",2958465,$E$4))) | G14: =IF($A14="","",SUMIFS('Timelogg'!$K$9:$K$208,'Timelogg'!$B$9:$B$208,$A14,'Timelogg'!$A$9:$A$208,">="&IF($C$4="",0,$C$4),'Timelogg'!$A$9:$A$208,"<="&IF($E$4="",2958465,$E$4))) | H14: =IF(OR($A14="",N(D14)=0),"",D14-E14)
E15: =IF($A15="","",SUMIFS('Timelogg'!$H$9:$H$208,'Timelogg'!$B$9:$B$208,$A15,'Timelogg'!$A$9:$A$208,">="&IF($C$4="",0,$C$4),'Timelogg'!$A$9:$A$208,"<="&IF($E$4="",2958465,$E$4))) | F15: =IF($A15="","",SUMIFS('Timelogg'!$H$9:$H$208,'Timelogg'!$B$9:$B$208,$A15,'Timelogg'!$I$9:$I$208,"Ja",'Timelogg'!$A$9:$A$208,">="&IF($C$4="",0,$C$4),'Timelogg'!$A$9:$A$208,"<="&IF($E$4="",2958465,$E$4))) | G15: =IF($A15="","",SUMIFS('Timelogg'!$K$9:$K$208,'Timelogg'!$B$9:$B$208,$A15,'Timelogg'!$A$9:$A$208,">="&IF($C$4="",0,$C$4),'Timelogg'!$A$9:$A$208,"<="&IF($E$4="",2958465,$E$4))) | H15: =IF(OR($A15="",N(D15)=0),"",D15-E15)
E16: =IF($A16="","",SUMIFS('Timelogg'!$H$9:$H$208,'Timelogg'!$B$9:$B$208,$A16,'Timelogg'!$A$9:$A$208,">="&IF($C$4="",0,$C$4),'Timelogg'!$A$9:$A$208,"<="&IF($E$4="",2958465,$E$4))) | F16: =IF($A16="","",SUMIFS('Timelogg'!$H$9:$H$208,'Timelogg'!$B$9:$B$208,$A16,'Timelogg'!$I$9:$I$208,"Ja",'Timelogg'!$A$9:$A$208,">="&IF($C$4="",0,$C$4),'Timelogg'!$A$9:$A$208,"<="&IF($E$4="",2958465,$E$4))) | G16: =IF($A16="","",SUMIFS('Timelogg'!$K$9:$K$208,'Timelogg'!$B$9:$B$208,$A16,'Timelogg'!$A$9:$A$208,">="&IF($C$4="",0,$C$4),'Timelogg'!$A$9:$A$208,"<="&IF($E$4="",2958465,$E$4))) | H16: =IF(OR($A16="",N(D16)=0),"",D16-E16)
E17: =IF($A17="","",SUMIFS('Timelogg'!$H$9:$H$208,'Timelogg'!$B$9:$B$208,$A17,'Timelogg'!$A$9:$A$208,">="&IF($C$4="",0,$C$4),'Timelogg'!$A$9:$A$208,"<="&IF($E$4="",2958465,$E$4))) | F17: =IF($A17="","",SUMIFS('Timelogg'!$H$9:$H$208,'Timelogg'!$B$9:$B$208,$A17,'Timelogg'!$I$9:$I$208,"Ja",'Timelogg'!$A$9:$A$208,">="&IF($C$4="",0,$C$4),'Timelogg'!$A$9:$A$208,"<="&IF($E$4="",2958465,$E$4))) | G17: =IF($A17="","",SUMIFS('Timelogg'!$K$9:$K$208,'Timelogg'!$B$9:$B$208,$A17,'Timelogg'!$A$9:$A$208,">="&IF($C$4="",0,$C$4),'Timelogg'!$A$9:$A$208,"<="&IF($E$4="",2958465,$E$4))) | H17: =IF(OR($A17="",N(D17)=0),"",D17-E17)
E18: =IF($A18="","",SUMIFS('Timelogg'!$H$9:$H$208,'Timelogg'!$B$9:$B$208,$A18,'Timelogg'!$A$9:$A$208,">="&IF($C$4="",0,$C$4),'Timelogg'!$A$9:$A$208,"<="&IF($E$4="",2958465,$E$4))) | F18: =IF($A18="","",SUMIFS('Timelogg'!$H$9:$H$208,'Timelogg'!$B$9:$B$208,$A18,'Timelogg'!$I$9:$I$208,"Ja",'Timelogg'!$A$9:$A$208,">="&IF($C$4="",0,$C$4),'Timelogg'!$A$9:$A$208,"<="&IF($E$4="",2958465,$E$4))) | G18: =IF($A18="","",SUMIFS('Timelogg'!$K$9:$K$208,'Timelogg'!$B$9:$B$208,$A18,'Timelogg'!$A$9:$A$208,">="&IF($C$4="",0,$C$4),'Timelogg'!$A$9:$A$208,"<="&IF($E$4="",2958465,$E$4))) | H18: =IF(OR($A18="",N(D18)=0),"",D18-E18)
E19: =IF($A19="","",SUMIFS('Timelogg'!$H$9:$H$208,'Timelogg'!$B$9:$B$208,$A19,'Timelogg'!$A$9:$A$208,">="&IF($C$4="",0,$C$4),'Timelogg'!$A$9:$A$208,"<="&IF($E$4="",2958465,$E$4))) | F19: =IF($A19="","",SUMIFS('Timelogg'!$H$9:$H$208,'Timelogg'!$B$9:$B$208,$A19,'Timelogg'!$I$9:$I$208,"Ja",'Timelogg'!$A$9:$A$208,">="&IF($C$4="",0,$C$4),'Timelogg'!$A$9:$A$208,"<="&IF($E$4="",2958465,$E$4))) | G19: =IF($A19="","",SUMIFS('Timelogg'!$K$9:$K$208,'Timelogg'!$B$9:$B$208,$A19,'Timelogg'!$A$9:$A$208,">="&IF($C$4="",0,$C$4),'Timelogg'!$A$9:$A$208,"<="&IF($E$4="",2958465,$E$4))) | H19: =IF(OR($A19="",N(D19)=0),"",D19-E19)
... E37: =IF($A37="","",SUMIFS('Timelogg'!$H$9:$H$208,'Timelogg'!$B$9:$B$208,$A37,'Timelogg'!$A$9:$A$208,">="&IF($C$4="",0,$C$4),'Timelogg'!$A$9:$A$208,"<="&IF($E$4="",2958465,$E$4))) | F37: =IF($A37="","",SUMIFS('Timelogg'!$H$9:$H$208,'Timelogg'!$B$9:$B$208,$A37,'Timelogg'!$I$9:$I$208,"Ja",'Timelogg'!$A$9:$A$208,">="&IF($C$4="",0,$C$4),'Timelogg'!$A$9:$A$208,"<="&IF($E$4="",2958465,$E$4))) | G37: =IF($A37="","",SUMIFS('Timelogg'!$K$9:$K$208,'Timelogg'!$B$9:$B$208,$A37,'Timelogg'!$A$9:$A$208,">="&IF($C$4="",0,$C$4),'Timelogg'!$A$9:$A$208,"<="&IF($E$4="",2958465,$E$4))) | H37: =IF(OR($A37="",N(D37)=0),"",D37-E37)
A38: Sum | E38: =SUM(E8:E37) | F38: =SUM(F8:F37) | G38: =SUM(G8:G37)
A40: Gratis mal fra EasyHours · easyhours.no — stemple inn fra mobilen eller et felles nettbrett i stedet for papir.
